BEGIN:VCALENDAR
VERSION:2.0
PRODID:-//wp-events-plugin.com//7.2.3.1//EN
TZID:Europe/Helsinki
X-WR-TIMEZONE:Europe/Helsinki
BEGIN:VEVENT
UID:935@helky.fi
DTSTART;TZID=Europe/Helsinki:20221117T164500
DTEND;TZID=Europe/Helsinki:20221117T191500
DTSTAMP:20221018T135933Z
URL:https://helky.fi/tapahtumat/yhdistyksen-syyskokous/
SUMMARY:Yhdistyksen syyskokous
DESCRIPTION:Helsingin Kuuloyhdistys ry:n syyskokous pidetään etäyhteydel
 lä torstaina 17.11.2022 klo 17:00 alkaen. Kokouksessa käsitellään sä
 äntömääräiset asiat sekä etäosallistuminen yhdistyksen kokouksiin v
 uonna 2023. Pyydämme ilmoittautumaan etukäteen\, kuitenkin viimeistään
  tiistaina 15.11.2022.\nTarkemmat liittymisohjeet sekä kokousmateriaali l
 ähetetään ilmoittautuneille sähköpostiin. Kokouksen tekniset valmiste
 lut alkavat kello 16:30.\nKokouksessa on kirjoitustulkkaus.\nIlmoittautumi
 nen alla olevalla lomakkeella.\nHelsingin Kuuloyhdistys ry:n hallitus
ATTACH;FMTTYPE=image/jpeg:https://helky.fi/wp-content/uploads/2022/10/nuij
 a.jpg
CATEGORIES:Ennakkoilmoittautuminen,Etätapaamiset,Kokoukset
END:VEVENT
BEGIN:VTIMEZONE
TZID:Europe/Helsinki
X-LIC-LOCATION:Europe/Helsinki
BEGIN:STANDARD
DTSTART:20221030T030000
TZOFFSETFROM:+0300
TZOFFSETTO:+0200
TZNAME:EET
END:STANDARD
END:VTIMEZONE
END:VCALENDAR