BEGIN:VCALENDAR
VERSION:2.0
PRODID:-//wp-events-plugin.com//7.2.3.1//EN
TZID:Europe/Helsinki
X-WR-TIMEZONE:Europe/Helsinki
BEGIN:VEVENT
UID:560@helky.fi
DTSTART;TZID=Europe/Helsinki:20200307T140000
DTEND;TZID=Europe/Helsinki:20200307T170000
DTSTAMP:20200226T114654Z
URL:https://helky.fi/tapahtumat/tokiokanin-sushi-kurssi/
SUMMARY:ILMOITTAUTUMINEN PÄÄTTYNYT/ Tokyokanin sushi-kurssi
DESCRIPTION:lauantaina 7.3.2020 klo 14.00-16.00\, jonka jälkeen nautimme y
 hdessä fiilistellen japanilaiseen henkeen valmistamamme japanilaiset herk
 ut. \n\nKurssin sisältö: luento sushista\, valmistellaan yhdessä sushi
 annos ja Misokeitto\, Japanin kulttuurin Q&amp\;A\, kattaus japanilaisitta
 in (koristelut).\n\nKurssin ohjaa Tomomi Mitsuhashi-Meriluoto\, ravintola 
 Tokiokan.\n\n&nbsp\;\n\nKurssin omavastuu Helkyn jäseniltä on 40 euroa j
 a muilta 90 euroa. \n\nKurssi toteutuu\, kun vähintään 10 osallistujaa
  ilmoittautuu  20.2. mennessä. \n\nKirjoitathan lomakkeeseen  toimivan 
 sähköpostiosoitteesi mahdollista yhteydenottoa sekä laskutusta varten\,
  kiitos.\n\n&nbsp\;\n\nKurssi on kuuloesteetön. Iloisesti tervetuloa japa
 nilaiseen lauantaihin!\n\nLisätietoja: mari.myllymaki@helky.fi 
ATTACH;FMTTYPE=image/jpeg:https://helky.fi/wp-content/uploads/2020/01/sush
 i-e1582095129151.jpg
CATEGORIES:Ennakkoilmoittautuminen,Juhlatilaisuudet,Työikäiset
LOCATION:Helkan tupa\, Haagan urheilutie 12\, Helsinki\, 00320\, Etelä-Haa
 ga\, Suomi
GEO:60.217829;24.892058
X-APPLE-STRUCTURED-LOCATION;VALUE=URI;X-ADDRESS=Haagan urheilutie 12\, Hels
 inki\, 00320\, Etelä-Haaga\, Suomi;X-APPLE-RADIUS=100;X-TITLE=Helkan tupa
 :geo:60.217829,24.892058
END:VEVENT
BEGIN:VTIMEZONE
TZID:Europe/Helsinki
X-LIC-LOCATION:Europe/Helsinki
BEGIN:STANDARD
DTSTART:20191027T030000
TZOFFSETFROM:+0300
TZOFFSETTO:+0200
TZNAME:EET
END:STANDARD
END:VTIMEZONE
END:VCALENDAR