BEGIN:VCALENDAR
VERSION:2.0
PRODID:-//wp-events-plugin.com//7.2.3.1//EN
TZID:Europe/Helsinki
X-WR-TIMEZONE:Europe/Helsinki
BEGIN:VEVENT
UID:703@helky.fi
DTSTART;TZID=Europe/Helsinki:20211120T093000
DTEND;TZID=Europe/Helsinki:20211120T123000
DTSTAMP:20210930T100116Z
URL:https://helky.fi/tapahtumat/syyskokous/
SUMMARY:Yhdistyksen syyskokous 2021
DESCRIPTION:Yhdistyksen syyskokous pidetään lauantaina 20.11.2021 kl0 10.
 00 alkaen. Lakitekninen\, sääntöjen mukainen pitopaikka on Helkan tupa\
 , Haagan urheilutie 12\, 00320 Helsinki. Varsinainen kokous pidetään kui
 tenkin tilanteen aiheuttaman epävarmuuden vuoksi kokonaan etäkokouksena 
 Google Meet-etätapaamisalustan kautta. Ilmoittautuneille lähetetään ko
 kouslinkki lähempänä ajankohtaa.\n\nAloitamme teknisillä valmisteluill
 a klo 9.30 alkaen.\n\nTervetuloa syyskokoukseen.\n\nHallitus\n\n&nbsp\;\n\
 n&nbsp\;
CATEGORIES:Ennakkoilmoittautuminen,Kokoukset
END:VEVENT
BEGIN:VTIMEZONE
TZID:Europe/Helsinki
X-LIC-LOCATION:Europe/Helsinki
BEGIN:STANDARD
DTSTART:20211031T030000
TZOFFSETFROM:+0300
TZOFFSETTO:+0200
TZNAME:EET
END:STANDARD
END:VTIMEZONE
END:VCALENDAR