BEGIN:VCALENDAR
VERSION:2.0
PRODID:-//wp-events-plugin.com//7.2.3.1//EN
TZID:Europe/Helsinki
X-WR-TIMEZONE:Europe/Helsinki
BEGIN:VEVENT
UID:1101@helky.fi
DTSTART;TZID=Europe/Helsinki:20260717T110000
DTEND;TZID=Europe/Helsinki:20260717T160000
DTSTAMP:20260420T130940Z
URL:https://helky.fi/tapahtumat/retki-mustasaareen-6-8-2026/
SUMMARY:Retki Mustasaareen 6.8.2026
DESCRIPTION:Helkyn ja Uudenmaan kuurosokeitten kerhon yhteinen retki Helsin
 gin seurakuntayhtymän kesäpaikkaan Mustasaareen torstaina 6.8.2026.\n\nV
 arustauduthan hyvillä jalkineilla ja säänmukaisella vaatetuksella\, ev
 ästäkin saa halutessaan ottaa mukaan. Voit tutustua saareen etukäteen: 
 www.mustasaarentoimintakeskus.fi.\n\nRetkiohjelma:\n\nklo 11.00 lautta lä
 htee Taivallahden laiturista. Olethan ajoissa paikalla! Laituri sijaitsee 
 Hietaniemen uimarannan parkkipaikoista hieman eteenpäin\, pienoisgolf-ken
 tän jälkeen niemekkeen oikealla puolella (betoninen pienehkö laiturialu
 e). Osoite Hiekkarannantie 3\, Helsinki. Lauttamatka kestää noin 15 minu
 uttia.\n\nklo 11.30 omakustanteinen lounas päärakennuksessa\, maksetaan 
 ravintolan kassalle. Hinta 14\,-.\n\nklo 12.30 opastettu saarikierros\, ke
 sto noin 1 tunti.\n\nklo 13.45 yhteistä ohjelmaa\, mahdollisuus kahvitell
 a omakustanteisesti (kahvi+pulla 6\,90).\n\nklo 15.40 paluulautta manteree
 lle lähtee. Taivallahdessa noin klo 16.00.\n\nIlmoittautumiset viimeistä
 än 17.7.2026 https://helky.fi/tapahtumailmoittautuminen.\n\nIlmoittautues
 sasi mainitse Lisätietoja kohtaan osallistutko omakustanteisiin ruokailuu
 n ja kahvitteluun\, sekä mahdollinen ruokarajoite!\n\nJos tarvitset kirjo
 itustulkkausta\, mainitsethan siitäkin Lisätietoja-kohtaan!\n\nTervetulo
 a viettämään mukava päivä saaristoluonnossa!\n\n&nbsp\;\n\n&nbsp\;
CATEGORIES:Retket ja vierailut
LOCATION:Mustasaari\, Hiekkarannantie 3\, Helsinki\, Suomi
X-APPLE-STRUCTURED-LOCATION;VALUE=URI;X-ADDRESS=Hiekkarannantie 3\, Helsink
 i\, Suomi;X-APPLE-RADIUS=100;X-TITLE=Mustasaari:geo:0,0
END:VEVENT
BEGIN:VTIMEZONE
TZID:Europe/Helsinki
X-LIC-LOCATION:Europe/Helsinki
BEGIN:DAYLIGHT
DTSTART:20260329T040000
TZOFFSETFROM:+0200
TZOFFSETTO:+0300
TZNAME:EEST
END:DAYLIGHT
END:VTIMEZONE
END:VCALENDAR