BEGIN:VCALENDAR
VERSION:2.0
PRODID:-//wp-events-plugin.com//7.2.3.1//EN
TZID:Europe/Helsinki
X-WR-TIMEZONE:Europe/Helsinki
BEGIN:VEVENT
UID:694@helky.fi
DTSTART;TZID=Europe/Helsinki:20220618T093000
DTEND;TZID=Europe/Helsinki:20220618T160000
DTSTAMP:20220531T160152Z
URL:https://helky.fi/tapahtumat/retki-isosaareen/
SUMMARY:Retki Isosaareen
DESCRIPTION:Tervetuloa mukaan kesäiselle retkelle Isosaareen lauantaina 18
 .6.2022. Laiva lähtee laiturista klo 10.00.\n\nIsosaari sijaitsee Helsing
 in ulkosaaristossa\, jonne laivamatka kestää noin 40 minuuttia.\n\nKokoo
 ntuminen klo 9.30 Kauppatorin Keisarinluodon laiturilla\, josta lähtö Is
 osaareen klo 10.00.\n\nPerillä Isosaaressa kirjoitustulkattu\, opastettu 
 kierros Jarmo Niemisen johdolla alkaa klo 11.00. Hän johdattaa meidät ki
 innostaviin historiallisiin maisemiin ja kohteisiin saarella. Kierroksen k
 esto on noin 3 tuntia\, minkä jälkeen on vapaata aikaa nauttia omakustan
 teinen lounas paikallisessa ravintolassa\, nakkikioskilla tai syödä omia
  eväitä.\n\nPaluumatkalle lähdetään klo 15.15 lähtevällä laivalla.
 \n\nMuistathan varata mukaan saaristomaastoon sopivat kengät\, säänmuka
 isen vaatetuksen\, juomavettä sekä omat eväät.\n\nSaaressa on myös ma
 hdollista nauttia omakustanteisesti lounasta Isosaaren Upseerikerholla\n\n
 Sitovat ilmoittautumiset 6.6.2022 mennessä.\n\nRetken hinta 22 euroa sis
 ältäen laivamatkan ja opastuksen.\n\nSuosittelemme ostamaan lipun etukä
 teen verkkokaupasta https://visitisosaari.fi/laivaliikenne/\n\nLaivalippu 
 on mahdollista ostaa myös laivarannasta\, jos vapaita paikkoja on jäljel
 lä.\n\nTarkemmat tiedustelut: tapahtumat@helky.fi / 045 123 2624\n\nRetke
 n vetäjänä toimii Kirsi Mikkanen
ATTACH;FMTTYPE=image/jpeg:https://helky.fi/wp-content/uploads/2021/06/2_IM
 G_2287_edit-e1538638843943.jpg
CATEGORIES:Ennakkoilmoittautuminen,Retket ja vierailut
LOCATION:Isosaari\,  Isosaari  \, Helsinki\, Suomi
X-APPLE-STRUCTURED-LOCATION;VALUE=URI;X-ADDRESS= Isosaari  \, Helsinki\, Su
 omi;X-APPLE-RADIUS=100;X-TITLE=Isosaari:geo:0,0
END:VEVENT
BEGIN:VTIMEZONE
TZID:Europe/Helsinki
X-LIC-LOCATION:Europe/Helsinki
BEGIN:DAYLIGHT
DTSTART:20220327T040000
TZOFFSETFROM:+0200
TZOFFSETTO:+0300
TZNAME:EEST
END:DAYLIGHT
END:VTIMEZONE
END:VCALENDAR