BEGIN:VCALENDAR
VERSION:2.0
PRODID:-//wp-events-plugin.com//7.2.3.1//EN
TZID:Europe/Helsinki
X-WR-TIMEZONE:Europe/Helsinki
BEGIN:VEVENT
UID:207@helky.fi
DTSTART;TZID=Europe/Helsinki:20190515T170000
DTEND;TZID=Europe/Helsinki:20190515T200000
DTSTAMP:20190430T150811Z
URL:https://helky.fi/tapahtumat/nayttelija-eero-enqvist-puhetaidon-lyhyt-o
 ppimaara/
SUMMARY:Näyttelijä Eero Enqvist: Puhetaidon lyhyt oppimäärä
DESCRIPTION:15.5. 2019 kello 17-20\nPuhetaidon lyhyt oppimäärä\n\nMitä 
 puhuisi\, kun pitäisi puhua? Kokouksessa? Juontamassa? Sukujuhlissa? Eero
  Enqvistin johdolla harjoittelemme puhumista eri tilanteissa.\n\nTilaisuus
  on maksuton Helkyn jäsenille.\nKirjoitustulkkaus ja kahvitarjoilu.\nTule
  rohkeasti saamaan vinkkejä ja harjoitusta!\nLisätietoja: sirpa.korkeama
 ki@helky.fi\n\nIlmoittautumisten takaraja on 2.5.2019\n\nTähän kokonaisu
 uteen tulee\nilmoittautuneille ennakkotehtävä sähköpostitse toukokuun 
 alussa\, joten kerro sähköpostiosoitteesi ilmoittautuessasi.\n\nNäyttel
 ijä Eero Enqvist on ohjannut monia erityisryhmiä ja ollut Helkyssä ohja
 amassa TeatteriBelin produktioita. Eerolla on loistava kyky rohkaista kaik
 enlaiset ihmiset\, hiukan epävarmat ja ujotkin esiintyjät mahtavalla ohj
 austyylillä puhkeamaan nupusta kukkaan.\n\nEero saa kaikki innolla mukaan
  pitämään hauskaa ja samalla kehittämään itseään ja taitojaan. Tul
 e rohkeasti paikalle ja huomaa\, kuinka saat itsestäsi uusia puolia esiin
  ja hyviä eväitä tilaisuuteen kuin tilaisuuteen!
ATTACH;FMTTYPE=image/jpeg:https://helky.fi/wp-content/uploads/2018/01/desi
 gn-3060480_1280.jpg
CATEGORIES:Asiantuntijaluennot,Ennakkoilmoittautuminen
LOCATION:Helkan tupa\, Haagan urheilutie 12\, Helsinki\, 00320\, Etelä-Haa
 ga\, Suomi
GEO:60.217829;24.892058
X-APPLE-STRUCTURED-LOCATION;VALUE=URI;X-ADDRESS=Haagan urheilutie 12\, Hels
 inki\, 00320\, Etelä-Haaga\, Suomi;X-APPLE-RADIUS=100;X-TITLE=Helkan tupa
 :geo:60.217829,24.892058
END:VEVENT
BEGIN:VTIMEZONE
TZID:Europe/Helsinki
X-LIC-LOCATION:Europe/Helsinki
BEGIN:DAYLIGHT
DTSTART:20190331T040000
TZOFFSETFROM:+0200
TZOFFSETTO:+0300
TZNAME:EEST
END:DAYLIGHT
END:VTIMEZONE
END:VCALENDAR