BEGIN:VCALENDAR
VERSION:2.0
PRODID:-//wp-events-plugin.com//7.2.3.1//EN
TZID:Europe/Helsinki
X-WR-TIMEZONE:Europe/Helsinki
BEGIN:VEVENT
UID:1076@helky.fi
DTSTART;TZID=Europe/Helsinki:20250911T170000
DTEND;TZID=Europe/Helsinki:20250911T200000
DTSTAMP:20250905T121154Z
URL:https://helky.fi/tapahtumat/mista-kenka-puristaa/
SUMMARY:Mistä kenkä puristaa?
DESCRIPTION:Mitä kenkäkaupoilla pitäisi ottaa huomioon\, ettei kenkä pu
 rista? Tule kuulemaan\, miten valita itsellesi sopivat kengät. Luennolla 
 kerrotaan myös kenkien historiasta.\n\nTorstaina 11.9.2025 klo 17.00-20.0
 0.\n\nAsiantuntijana jalkaterapeutti Paula Sivén.\n\nKahvitarjoilu klo 16
 .30 alkaen.\n\n 	Viimeinen ilmoittautumispäivä 1.9.2025\n
ATTACH;FMTTYPE=image/jpeg:https://helky.fi/wp-content/uploads/2025/03/shoe
 s-9138796_640.jpg
CATEGORIES:Asiantuntijaluennot,Ennakkoilmoittautuminen
LOCATION:Helkan tupa\, Haagan urheilutie 12\, Helsinki\, 00320\, Etelä-Haa
 ga\, Suomi
GEO:60.217829;24.892058
X-APPLE-STRUCTURED-LOCATION;VALUE=URI;X-ADDRESS=Haagan urheilutie 12\, Hels
 inki\, 00320\, Etelä-Haaga\, Suomi;X-APPLE-RADIUS=100;X-TITLE=Helkan tupa
 :geo:60.217829,24.892058
END:VEVENT
BEGIN:VTIMEZONE
TZID:Europe/Helsinki
X-LIC-LOCATION:Europe/Helsinki
BEGIN:DAYLIGHT
DTSTART:20250330T040000
TZOFFSETFROM:+0200
TZOFFSETTO:+0300
TZNAME:EEST
END:DAYLIGHT
END:VTIMEZONE
END:VCALENDAR