BEGIN:VCALENDAR
VERSION:2.0
PRODID:-//wp-events-plugin.com//7.2.3.1//EN
TZID:Europe/Helsinki
X-WR-TIMEZONE:Europe/Helsinki
BEGIN:VEVENT
UID:1020@helky.fi
DTSTART;TZID=Europe/Helsinki:20240320T163000
DTEND;TZID=Europe/Helsinki:20240320T200000
DTSTAMP:20240308T125530Z
URL:https://helky.fi/tapahtumat/medel-sisakorvaistuteilta/
SUMMARY:MedEl-sisäkorvaistuteilta
DESCRIPTION:MedEl-sisäkorvaistuteilta Helkan tuvalla. Paikalla MedEl Suome
 n maajohtaja Marko Rönkä.  Illan aikana on myös aikaa keskustelulle ja
  kysymyksille. \n\nTule kuulemaan MedEl:in uutiset ja uutuudet\, kyselem
 ään oman laitteesi käytöstä ja tapaamaan muita sisäkorvaistutekäytt
 äjiä!\n\nTilaisuus on tarkoitettu erityisesti MedEl-käyttäjille ja sis
 äkorvaistutetta harkitseville sekä muutoin asiasta kiinnostuneille.\n\nI
 lmoittautuminen 11.3.2024 mennessä yhdistyksen kotisivujen kautta.\n\nTil
 aisuus on maksuton. 25 ensimmäistä mahtuu mukaan.\n\nTilaisuudessa on ki
 rjoitustulkkaus.\n\nTervetuloa!
ATTACH;FMTTYPE=image/jpeg:https://helky.fi/wp-content/uploads/2023/02/sisa
 korvaistute-e1706186123823.png
CATEGORIES:Asiantuntijaluennot,Ennakkoilmoittautuminen,Vertaistapaamiset
LOCATION:Helkan tupa\, Haagan urheilutie 12\, Helsinki\, 00320\, Etelä-Haa
 ga\, Suomi
GEO:60.217829;24.892058
X-APPLE-STRUCTURED-LOCATION;VALUE=URI;X-ADDRESS=Haagan urheilutie 12\, Hels
 inki\, 00320\, Etelä-Haaga\, Suomi;X-APPLE-RADIUS=100;X-TITLE=Helkan tupa
 :geo:60.217829,24.892058
END:VEVENT
BEGIN:VTIMEZONE
TZID:Europe/Helsinki
X-LIC-LOCATION:Europe/Helsinki
BEGIN:STANDARD
DTSTART:20231029T030000
TZOFFSETFROM:+0300
TZOFFSETTO:+0200
TZNAME:EET
END:STANDARD
END:VTIMEZONE
END:VCALENDAR