BEGIN:VCALENDAR
VERSION:2.0
PRODID:-//wp-events-plugin.com//7.2.3.1//EN
TZID:Europe/Helsinki
X-WR-TIMEZONE:Europe/Helsinki
BEGIN:VEVENT
UID:556@helky.fi
DTSTART;TZID=Europe/Helsinki:20200212T170000
DTEND;TZID=Europe/Helsinki:20200212T200000
DTSTAMP:20200120T092240Z
URL:https://helky.fi/tapahtumat/japani-ilta-japanissa-matkailleet-perttu-m
 akela-ja-pirkko-johansson-kertovat-japanilaisesta-kulttuurista/
SUMMARY:Matkustaminen Japanissa - Elämä Japanissa kahden turistin silmin
DESCRIPTION:Japanissa tahoillaan matkailleet Perttu Mäkelä ja Pirkko Joha
 nsson kertovat japanilaisesta kulttuurista ja jakavat matkustuskokemuksiaa
 n mm. valokuvien muodossa.\nTervetuloa kuuntelemaan ja keskustelemaan.\n\n
 Kahvitarjoilu alkaa klo 17:00. Illan ohjelma klo 17:30 alkaen.\nTilaisuude
 ssa on kirjoitustulkaus.\n\nTapahtumavinkki:  Katso myös tulossa oleva T
 okiokanin sushikurssi 7.3.2020 Helkan tuvalla\n\nArtikkelikuva Pirkko Joha
 nsson\n\n&nbsp\;\n\n&nbsp\;
ATTACH;FMTTYPE=image/jpeg:https://helky.fi/wp-content/uploads/2020/01/japa
 ni-e1579512878391.jpg
CATEGORIES:Työikäiset
LOCATION:Helkan tupa\, Haagan urheilutie 12\, Helsinki\, 00320\, Etelä-Haa
 ga\, Suomi
GEO:60.217829;24.892058
X-APPLE-STRUCTURED-LOCATION;VALUE=URI;X-ADDRESS=Haagan urheilutie 12\, Hels
 inki\, 00320\, Etelä-Haaga\, Suomi;X-APPLE-RADIUS=100;X-TITLE=Helkan tupa
 :geo:60.217829,24.892058
END:VEVENT
BEGIN:VTIMEZONE
TZID:Europe/Helsinki
X-LIC-LOCATION:Europe/Helsinki
BEGIN:STANDARD
DTSTART:20191027T030000
TZOFFSETFROM:+0300
TZOFFSETTO:+0200
TZNAME:EET
END:STANDARD
END:VTIMEZONE
END:VCALENDAR