BEGIN:VCALENDAR
VERSION:2.0
PRODID:-//wp-events-plugin.com//7.2.3.1//EN
TZID:Europe/Helsinki
X-WR-TIMEZONE:Europe/Helsinki
BEGIN:VEVENT
UID:553@helky.fi
DTSTART;TZID=Europe/Helsinki:20200312T160000
DTEND;TZID=Europe/Helsinki:20200312T180000
DTSTAMP:20200114T184146Z
URL:https://helky.fi/tapahtumat/gimp-kuvankasittelytunti-osa-2/
SUMMARY:GIMP-kuvankäsittelytunti\, osa 2.
DESCRIPTION:Oletko aina halunnut oppia muokkaamaan valokuvia itse?\nGIMP-ku
 vankäsittelytunti\, osa 2. ohjaajana Sissi Maijala. Kurssi yht. 4h\, jatk
 o-osa. (ensimmäinen kurssin osa järjestetään 27.2.2020)\n\nTarvitset p
 erustiedot tietokoneen käytöstä ja oman kannettavan tietokoneen\, terve
 tuloa!\n\nHUOM! Jos tarvitset kirjoitustulkkia\, ole hyvä ja tilaa tulkki
  itsellesi kurssia varten.\nHelkan tuvalla on induktiosilmukka käytössä
 . \n\nLisätietoja GIMP-kuvankäsittelyohjelmasta tästä linkistä.
ATTACH;FMTTYPE=image/jpeg:https://helky.fi/wp-content/uploads/2020/01/keyb
 oard-e1579007533205.jpg
LOCATION:Helkan tupa\, Haagan urheilutie 12\, Helsinki\, 00320\, Etelä-Haa
 ga\, Suomi
GEO:60.217829;24.892058
X-APPLE-STRUCTURED-LOCATION;VALUE=URI;X-ADDRESS=Haagan urheilutie 12\, Hels
 inki\, 00320\, Etelä-Haaga\, Suomi;X-APPLE-RADIUS=100;X-TITLE=Helkan tupa
 :geo:60.217829,24.892058
END:VEVENT
BEGIN:VTIMEZONE
TZID:Europe/Helsinki
X-LIC-LOCATION:Europe/Helsinki
BEGIN:STANDARD
DTSTART:20191027T030000
TZOFFSETFROM:+0300
TZOFFSETTO:+0200
TZNAME:EET
END:STANDARD
END:VTIMEZONE
END:VCALENDAR