BEGIN:VCALENDAR
VERSION:2.0
PRODID:-//wp-events-plugin.com//7.2.3.1//EN
TZID:Europe/Helsinki
X-WR-TIMEZONE:Europe/Helsinki
BEGIN:VEVENT
UID:1102@helky.fi
DTSTART;TZID=Europe/Helsinki:20260520T170000
DTEND;TZID=Europe/Helsinki:20260520T190000
DTSTAMP:20260424T085603Z
URL:https://helky.fi/tapahtumat/digitaidot-tyopaja-20-5-2026/
SUMMARY:Digitaidot-työpaja 20.5.2026
DESCRIPTION:Kaikille avoimen Digitaidot-työpajan aiheena tällä kertaa ov
 at tekoäly\, pilvipalveluiden käyttö\, internetin turvallinen käyttö 
 sekä muut ajankohtaiset tietoyhteiskuntaan liittyvät asiat.\n\nTilaisuud
 essa on kahvitarjoilu sekä kirjoitustulkkaus. Ilmoittauduthan etukäteen 
 tarjoiluvalmisteluja varten.\n\nLuennoitsijana ja asiantuntijana on Oona K
 onttinen\, Kuuloliitto ry\n\n&nbsp\;\n\n&nbsp\;
ATTACH;FMTTYPE=image/jpeg:https://helky.fi/wp-content/uploads/2026/04/Digt
 aidot-tyopaja-20.5.png
CATEGORIES:Asiantuntijaluennot,Ennakkoilmoittautuminen
LOCATION:Helkan tupa\, Haagan urheilutie 12\, Helsinki\, 00320\, Etelä-Haa
 ga\, Suomi
GEO:60.217829;24.892058
X-APPLE-STRUCTURED-LOCATION;VALUE=URI;X-ADDRESS=Haagan urheilutie 12\, Hels
 inki\, 00320\, Etelä-Haaga\, Suomi;X-APPLE-RADIUS=100;X-TITLE=Helkan tupa
 :geo:60.217829,24.892058
END:VEVENT
BEGIN:VTIMEZONE
TZID:Europe/Helsinki
X-LIC-LOCATION:Europe/Helsinki
BEGIN:DAYLIGHT
DTSTART:20260329T040000
TZOFFSETFROM:+0200
TZOFFSETTO:+0300
TZNAME:EEST
END:DAYLIGHT
END:VTIMEZONE
END:VCALENDAR